BEGIN:VCALENDAR
VERSION:2.0
PRODID:-//Plone.org//NONSGML plone.app.event//EN
X-WR-TIMEZONE:Europe/Berlin
BEGIN:VEVENT
SUMMARY:CROSS-SECTORAL ISIMIP-PROCLIAS MEETING
DTSTART;VALUE=DATE:20240422
DTEND;VALUE=DATE:20240427
DTSTAMP;VALUE=DATE-TIME:20260421T121122Z
UID:b6905774fd344714bdba7a940f6c3148@localhost:8082
CREATED;VALUE=DATE-TIME:20231211T150510Z
LAST-MODIFIED;VALUE=DATE-TIME:20240202T150325Z
LOCATION:Potsdam Institute for Climate Impact Research\, Potsdam\, Germany
URL:https://proclias.eu/events/cross-sectoral-isimip-proclias-meeting
END:VEVENT
END:VCALENDAR
